BEGIN:VCALENDAR
VERSION:2.0
PRODID:-//hacksw/handcal//NONSGML v1.0//EN
BEGIN:VEVENT
SUMMARY:Claude Pauline	ANNULEE REMPLACEE  La Clape (massif) Dpt Ricardelle	 8h30 10€	5h 13km	450m **	Au depart du rond point des Ricardelle vers Narbonne sur la D32. ND des Auzils et les cenotaphes du cimetiere marin
UID:af3a23ed-480c-4485-9c8a-5c3bc8f48700
DTSTART:20260308T070000Z
DTEND:20260308T230000Z
LOCATION:Localisation   
CATEGORIES:Sportif
STATUS:
URL;VALUE=URI:https://www.st-cyp-randos.fr/evenements/2026/03/08/claude-pauline-annulee-remplacee-la-clape-massif-dpt-ricardelle-8h30-10eur-5h-13km-450m-au-depart-du-rond-point-des-ricardelle-vers-narbonne-sur-la-d32-nd-des-auzils-et-les-cenotaphes-du-cimetiere-marin-2411904
END:VEVENT
END:VCALENDAR
