BEGIN:VCALENDAR
VERSION:2.0
PRODID:-//hacksw/handcal//NONSGML v1.0//EN
BEGIN:VEVENT
SUMMARY:CLAUDE  PAULINE   La tour de Batere,depart de Taulis,6h30,14km,880m,depart 8h,7euros.
UID:2683da0f-5169-48d1-b3d4-2d204f538142
DTSTART:20260308T070000Z
DTEND:20260308T230000Z
LOCATION:Localisation   
CATEGORIES:Sportif
STATUS:
URL;VALUE=URI:https://www.st-cyp-randos.fr/evenements/2026/03/08/claude-pauline-la-tour-de-bateredepart-de-taulis6h3014km880mdepart-8h7euros-2419047
END:VEVENT
END:VCALENDAR
